BEGIN:VCALENDAR
PRODID:-//Solspace/Calendar 2.x//EN
VERSION:2.0
CALSCALE:GREGORIAN
BEGIN:VEVENT
UID:444b9ff449449155d4f1e128691dd785@solspace.com
DTSTAMP:20260419T133557
DESCRIPTION:<p>Interested in learning about the Tomcat football program?
 &nbsp\; Contact us today to attend a summer camp!</p> <ul><l
 i><a href="https://www.thiel.edu/admissions/apply-online">Th
 iel College Admissions</a></li><li>Football Coach <a href="m
 ailto:sbauman@thiel.edu" target="_blank">Sam Bauman</a></li>
 </ul>
LOCATION:Thiel College
DTSTART:20260725T110000
DTEND:20260725T160000
SUMMARY:Football Prospect Camp
END:VEVENT
END:VCALENDAR
