BEGIN:VCALENDAR
PRODID:-//Solspace/Calendar 2.x//EN
VERSION:2.0
CALSCALE:GREGORIAN
BEGIN:VEVENT
UID:72811a4cd7d6c9ac4be331ff259f6391@solspace.com
DTSTAMP:20260421T094518
DESCRIPTION:<p>Interested in learning about the Tomcat football program?
 &nbsp\; Contact us today to attend a summer camp!</p><ul><li
 ><a href="https://www.thiel.edu/admissions/apply-online">Thi
 el College Admissions</a></li><li>Football Coach <a href="ma
 ilto:sbauman@thiel.edu" target="_blank">Sam Bauman</a></li><
 /ul>
LOCATION:Thiel College
DTSTART:20260517T130000
DTEND:20260517T200000
SUMMARY:Football Prospect Camp
END:VEVENT
END:VCALENDAR
