BEGIN:VCALENDAR
PRODID:-//Solspace/Calendar 2.x//EN
VERSION:2.0
CALSCALE:GREGORIAN
BEGIN:VEVENT
UID:65c58bc07ba6a5f82f72300eb37b503c@solspace.com
DTSTAMP:20260425T001746
DESCRIPTION:<p>The Annual BikeMS Escape to Lake fundraiser once again co
 mes to Thiel for the overnight.&nbsp\; A link to&nbsp\;the o
 fficial website is below followed by a tentative brief rundo
 wn of the schedule.</p><ul><li><a href="https://events.natio
 nalmssociety.org/2528" target="_blank">BikeMS : Escape to th
 e Lake 2026 Website</a></li></ul><hr> <p><u>Saturday\, June 
 13th:</u><br><br>8:00 a.m. -11:00 am Staff arrives to set up
  finish line area\, T-shirts\, nurses station\, etc.<br>11:0
 0 a.m.-6:00 p.m. -Key pick up and check in for riders and vo
 lunteers -SGR<br>11:00 a.m. -5:00 p.m. -Snack Reception for 
 riders and volunteers\, location to be determined<br>11:00 a
 .m. to 8:00 p.m. -Medical room open in Career Services offic
 e<br>2:00 p.m. to 6:00 p.m. -Lutheran Heritage Room<br>4:00 
 p.m. to 7:30 p.m. -Team Village and Beer Garden<br>4:00 p.m.
  to 7:30 p.m. -Passavant Center Shuttle stop<br>4:30 p.m. to
  7:30 p.m. Dinner in the cafeteria<u><br><br>Sunday\, June 1
 4:</u><br><br>Breakfast in the cafeteria from 5:00 a.m. to 7
 :30 a.m.<br>Hotel shuttles stop 5:00 a.m. to 7:00 a.m.<br>Lu
 ggage/dorm golf cart stops 5:30 a.m. to 7:00 a.m.</p>
LOCATION:Thiel College
DTSTART;VALUE=DATE:20260613
DTEND;VALUE=DATE:20260614
SUMMARY:Bike MS: Escape to the Lake
END:VEVENT
END:VCALENDAR
