BEGIN:VCALENDAR
PRODID:-//Solspace/Calendar 2.x//EN
VERSION:2.0
CALSCALE:GREGORIAN
BEGIN:VEVENT
UID:4351e4cbbfbfafbcdbf5ae066c247c4c@solspace.com
DTSTAMP:20260425T001207
DESCRIPTION:<p>End of semester cookout hosted by OBC.&nbsp\; All are wel
 come!</p>
LOCATION:Quad
DTSTART:20260502T140000
DTEND:20260502T200000
SUMMARY:OBC Cookout
END:VEVENT
END:VCALENDAR
