BEGIN:VCALENDAR
PRODID:-//Solspace/Calendar 2.x//EN
VERSION:2.0
CALSCALE:GREGORIAN
BEGIN:VEVENT
UID:c7d92f4f1a848870a0845102bd44bb9a@solspace.com
DTSTAMP:20260425T012403
DESCRIPTION:<p>Graduation event for the William Penn Academy.</p> <ul><l
 i><a href="https://williampenn.education/" target="_blank">W
 illiam Penn Academy Website</a></li></ul>
LOCATION:David Johnson Memorial Chapel
DTSTART:20260529T160000
DTEND:20260529T193000
SUMMARY:William Penn Academy Graduation
END:VEVENT
END:VCALENDAR
