BEGIN:VCALENDAR
PRODID:-//Solspace/Calendar 2.x//EN
VERSION:2.0
CALSCALE:GREGORIAN
BEGIN:VEVENT
UID:d4eda4eca8bd071cf44c56177dd2c577@solspace.com
DTSTAMP:20260422T163035
DESCRIPTION:<p>Auditions for the Fall 2026 production of <em>The Play Th
 at Goes Wrong</em>.</p> <p><strong>CREW POSITIONS ALSO AVAIL
 ABLE: Contact Dr. Rogers if interested: <a href="mailto:jrog
 ers@thiel.edu">jrogers@thiel.edu</a></strong></p>    <ul>   
   <li>Stage Manager</li>     <li>Asst. Stage Manager</li>   
   <li>Costumes</li>     <li>Props</li>     <li>Sound</li>   
  </ul>
LOCATION:William A. Robinson Theater
DTSTART:20260421T190000
DTEND:20260421T210000
SUMMARY:Auditions : The Play That Goes Wrong
END:VEVENT
END:VCALENDAR
