BEGIN:VCALENDAR
PRODID:-//Solspace/Calendar 2.x//EN
VERSION:2.0
CALSCALE:GREGORIAN
BEGIN:VEVENT
UID:5413786f5ec04f85b3e1a17fb2ef324d@solspace.com
DTSTAMP:20260419T150220
DESCRIPTION:<p>The Olympus Athletic & Recreation Center Groundbreaking a
 nd Reception will take place on Saturday\, May 9\, 2026.   T
 he groundbreaking is scheduled to start at 3:30 PM near the 
 entrance to Alumni Stadium. The reception will take place in
  the James Pedas Communication Center after the groundbreaki
 ng ceremony. </p>
LOCATION:Near Alumni Stadium / Pedas Communication Center
DTSTART:20260509T153000
DTEND:20260509T180000
SUMMARY:Olympus Athletic & Recreation Center Groundbreaking and Rece
 ption
END:VEVENT
END:VCALENDAR
