BEGIN:VCALENDAR
PRODID:-//Solspace/Calendar 2.x//EN
VERSION:2.0
CALSCALE:GREGORIAN
BEGIN:VEVENT
UID:d8b063707856612e67f71df1135379fd@solspace.com
DTSTAMP:20260419T115128
DESCRIPTION:<p>Please see the <a href="https://thielathletics.com/news/2
 025/3/7/annual-blue-gold-golf-outing-set-for-may-23-at-avalo
 n-at-buhl.aspx" target="_blank">Athletics Website</a> for ad
 ditional details.</p>
LOCATION:Avalon GCC at Buhl Park\, Hermitage PA
DTSTART:20260522T090000
DTEND:20260522T180000
SUMMARY:Annual Blue-Gold Golf Outing at Avalon
END:VEVENT
END:VCALENDAR
