BEGIN:VCALENDAR
PRODID:-//Solspace/Calendar 2.x//EN
VERSION:2.0
CALSCALE:GREGORIAN
BEGIN:VEVENT
UID:deec4957908b6a37d8d826b9294cc1b1@solspace.com
DTSTAMP:20260422T131131
DESCRIPTION:<p><strong>ADAGIO HEALTH <u>ON CAMPUS</u></strong></p> <ul> 
  <li><strong><em>Location:  WELLNESS      CENTER in the lowe
 r level HMSC across from cafeteria</em></strong></li>  <li><
 strong>Appointments preferred</strong> but walk-ins      wel
 come (may have a wait time)</li>  <li><strong>To      schedu
 le an appointment\, call 814-676-1811</strong></li> </ul> <p
 ><strong><em><u></u></em></strong></p> <p><strong>SERVICES P
 ROVIDED TO BOTH <u>MEN</u> AND <u>WOMEN</u>!</strong></p> <u
 l>  <li>STI/STD Screenings &      Treatment</li>  <li>Urinar
 y Tract Infections</li>  <li>Basic Adult Health      Screeni
 ngs- Cholesterol\, diabetes </li>  <li>Adult Vaccines &     
  immunizations</li>  <li><strong>Flu Shots!!</strong></li>  
 <li>Birth Control- Pill\, IUD      or Implant</li>  <li>Gyne
 cological      exams/Pregnancy testing/Cancer Screening</li>
   <li>Breast and Cervical      Cancer Screenings</li>  <li>S
 ports Physicals</li>  <li>Drivers Physicals</li> </ul> <p>Mo
 re information here! -&gt\;&nbsp\;&nbsp\;<a href="https://ww
 w.adagiohealth.org/healthcare" target="_blank" title="https:
 //www.adagiohealth.org/healthcare" data-linkindex="0" data-a
 uth="NotApplicable">https://www.adagiohealth.org/healthcare<
 /a></p>
LOCATION:HMSC -  Lower Level
DTSTART:20260415T090000
DTEND:20260415T140000
SUMMARY:Adagio Health on Campus
END:VEVENT
END:VCALENDAR
