BEGIN:VCALENDAR
PRODID:-//Solspace/Calendar 2.x//EN
VERSION:2.0
CALSCALE:GREGORIAN
BEGIN:VEVENT
UID:27c30a6335a8679cad51e6063b1dd1f0@solspace.com
DTSTAMP:20260419T133556
DESCRIPTION:<p>Greek Week Schedule:</p> <ul><li>Monday : Tug of War</li>
 <li>Tuesday: Track Day</li><li>Wednesday : Jeopardy</li><li>
 Thursday : Lip Sync</li><li>Friday : Awards Ceremony</li></u
 l>
LOCATION:Quad
DTSTART:20260420T190000
DTEND:20260420T203000
SUMMARY:Greek Week : Tug of War
END:VEVENT
END:VCALENDAR
