BEGIN:VCALENDAR
PRODID:-//Solspace/Calendar 2.x//EN
VERSION:2.0
CALSCALE:GREGORIAN
BEGIN:VEVENT
UID:783c8cf038365fc0a3f2f775253b42b6@solspace.com
DTSTAMP:20260419T115822
DESCRIPTION:<p>The annual semi-formal dinner banquet for DHI seniors.&nb
 sp\; <em><strong>* This is an invitation only event *</stron
 g></em></p>
LOCATION:HMSC - Sawhill Georgian Room
DTSTART:20260427T170000
DTEND:20260427T193000
SUMMARY:Dietrich Honors Institute Senior Banquet
END:VEVENT
END:VCALENDAR
