BEGIN:VCALENDAR
PRODID:-//Solspace/Calendar 2.x//EN
VERSION:2.0
CALSCALE:GREGORIAN
BEGIN:VEVENT
UID:09258da4a035c390cf045182d3da37da@solspace.com
DTSTAMP:20260419T133554
DESCRIPTION:<p>Stop by the Learning Commons area of the library to tour 
 the sensory rooms.</p>
LOCATION:Langenheim Memorial Library
DTSTART:20260410T110000
DTEND:20260410T130000
SUMMARY:Focused Friday!
END:VEVENT
END:VCALENDAR
