BEGIN:VCALENDAR
PRODID:-//Solspace/Calendar 2.x//EN
VERSION:2.0
CALSCALE:GREGORIAN
BEGIN:VEVENT
UID:0d57c239435e4c3a9fe60b1b1477e870@solspace.com
DTSTAMP:20260421T091524
DESCRIPTION:<p>Friday night dodgeball tournament.</p>
LOCATION:Beeghly Gymnasium / Maenpa Court
DTSTART:20260410T180000
DTEND:20260410T200000
SUMMARY:SAAC Dodgeball Tournament
END:VEVENT
END:VCALENDAR
