BEGIN:VCALENDAR
PRODID:-//Solspace/Calendar 2.x//EN
VERSION:2.0
CALSCALE:GREGORIAN
BEGIN:VEVENT
UID:572fc9a85ad77d900fe053f96cc41ed8@solspace.com
DTSTAMP:20260419T133557
DESCRIPTION:<p>The Tomcats will face the winner of #4 Grove City vs. #5 
 Hiram in the&nbsp\;PAC Championship Tournament.</p>
LOCATION:Maenpa Court / Beeghly Gymnasium
DTSTART:20260409T190000
DTEND:20260409T210000
SUMMARY:MVB : PAC Championship
END:VEVENT
END:VCALENDAR
