BEGIN:VCALENDAR
PRODID:-//Solspace/Calendar 2.x//EN
VERSION:2.0
CALSCALE:GREGORIAN
BEGIN:VEVENT
UID:de968a99500fc4c692e3c54f2e02a142@solspace.com
DTSTAMP:20260419T150140
DESCRIPTION:<p>Stop by the Wellness Center for popcorn\, powerade\, and 
 protein bars.</p>
LOCATION:HMSC - Wellness Center
DTSTART:20260408T110000
DTEND:20260408T130000
SUMMARY:Wellness Wednesday
END:VEVENT
END:VCALENDAR
