BEGIN:VCALENDAR
PRODID:-//Solspace/Calendar 2.x//EN
VERSION:2.0
CALSCALE:GREGORIAN
BEGIN:VEVENT
UID:045d7047c500946ed4c40ce23b0a68f5@solspace.com
DTSTAMP:20260419T133554
DESCRIPTION:<p>Stop by Weyers Lounge to grab a refreshment from Greenvil
 le Nutrition.</p>
LOCATION:Weyers Lounge
DTSTART:20260407T110000
DTEND:20260407T130000
SUMMARY:Treat Yourself Tuesday
END:VEVENT
END:VCALENDAR
