BEGIN:VCALENDAR
PRODID:-//Solspace/Calendar 2.x//EN
VERSION:2.0
CALSCALE:GREGORIAN
BEGIN:VEVENT
UID:1343a8bcb28fb46db4cf31f52c912835@solspace.com
DTSTAMP:20260419T133558
DESCRIPTION:<p>The Thiel Cheer team will be competing at noon in Florida
  and we are having a watch "party" on campus for anyone who 
 wants to watch them compete and show their support.</p>
LOCATION:HMSC - Sawhill Georgian Room
DTSTART:20260410T113000
DTEND:20260410T123000
SUMMARY:Watch Party: NCA Cheer Competition
END:VEVENT
END:VCALENDAR
