BEGIN:VCALENDAR
PRODID:-//Solspace/Calendar 2.x//EN
VERSION:2.0
CALSCALE:GREGORIAN
BEGIN:VEVENT
UID:0c119efb9a965626d02aa2f10a173214@solspace.com
DTSTAMP:20260419T133554
DESCRIPTION:<p>As part of the&nbsp\;David M. Miller ʼ61 H’20 distingu
 ished lecture series\, Thiel College welcomes&nbsp\;Rev. Yeh
 iel Curry to campus.&nbsp\;&nbsp\;</p> <p>Rev. Curry has a u
 nique leadership story to share. He grew up in a large Roman
  Catholic family on the southside of Chicago. Through his wo
 rk in teaching and social work\, he connected with an ELCA m
 inistry in the city. From there\, his journey led him to sem
 inary and then to ministry and church leadership. It is an i
 nspiring leadership story.</p> <p>His topic “Give it Anoth
 er Year\,” a lesson in finding strength and perseverance\,
  is relevant regardless of one’s faith tradition.&nbsp\; A
 ll students are encouraged to attend.</p>
LOCATION:HMSC - Lutheran Heritage Room
DTSTART:20260409T190000
DTEND:20260409T200000
SUMMARY:Give it Another Year
END:VEVENT
END:VCALENDAR
