BEGIN:VCALENDAR
PRODID:-//Solspace/Calendar 2.x//EN
VERSION:2.0
CALSCALE:GREGORIAN
BEGIN:VEVENT
UID:910b6cb91f147c0d50d7f8f8ce86bc5b@solspace.com
DTSTAMP:20260419T133444
DESCRIPTION:<p><em>The&nbsp\;Thiel College Music Department proudly pres
 ents...</em></p> <p><strong><em>A Night of Love</em></strong
 > under the direction of Professor Brianne Samson<strong><em
 ></em></strong></p> <p>Featuring:&nbsp\; * The Thiel Choir *
 * The Thiel Singers ** The Thiel Treble Choir ** The Thiel B
 arbershop Chorus * Performing works by Brahms\, Faure\, Hage
 nberg\, and More!<br></p>
LOCATION:David Johnson Memorial Chapel
DTSTART:20260421T190000
DTEND:20260421T210000
SUMMARY:Spring Choir Concert
END:VEVENT
END:VCALENDAR
