BEGIN:VCALENDAR
PRODID:-//Solspace/Calendar 2.x//EN
VERSION:2.0
CALSCALE:GREGORIAN
BEGIN:VEVENT
UID:8b1fe836dbc3b221a3c2aa1c8d80809d@solspace.com
DTSTAMP:20260419T133444
DESCRIPTION:<p>Free Ramen\, Toppings\, and Pop for students!</p>
LOCATION:HMSC - Bistro
DTSTART:20260328T200000
DTEND:20260328T220000
SUMMARY:Ramen Party
END:VEVENT
END:VCALENDAR
