BEGIN:VCALENDAR
PRODID:-//Solspace/Calendar 2.x//EN
VERSION:2.0
CALSCALE:GREGORIAN
BEGIN:VEVENT
UID:a1f6b341b335da96f8a485234450ed67@solspace.com
DTSTAMP:20260419T115817
DESCRIPTION:<p>Free Bowling\, Pop\, and Pizza with Student ID!</p>
LOCATION:Liberty Lanes
DTSTART:20260327T200000
DTEND:20260327T230000
SUMMARY:Bowling Nite
END:VEVENT
END:VCALENDAR
