BEGIN:VCALENDAR
PRODID:-//Solspace/Calendar 2.x//EN
VERSION:2.0
CALSCALE:GREGORIAN
BEGIN:VEVENT
UID:a30c306ea8fe9ff5e5328e2b768e606b@solspace.com
DTSTAMP:20260424T190210
DESCRIPTION:<p>Thiel College Psychology Students at Thiel College are re
 cruiting participants for a research study on how different 
 testing environments affect academic performance and emotion
 s during exams.</p> <p>The study will take place on March 24
  at 6:00 PM in Bly Hall and will last about 20–30 minutes.
  Participants should sign up and attend with one friend so b
 oth can complete the study together.</p> <p>During the sessi
 on\, you will complete a short demographics questionnaire\, 
 an emotional survey\, a brief quiz\, and a final emotional s
 urvey. Participation is voluntary and anonymous\, and you ma
 y withdraw at any time.</p> <p>Participants will be entered 
 into a drawing for one of ten $20 Amazon gift cards\, which 
 will be awarded after all Psy 380 research sessions are comp
 leted.</p> <p><a href="https://docs.google.com/forms/d/e/1FA
 IpQLSeXu43jwZWmPLt8BTglYwuKdnP2nAQ_hOPSBNH5DwZJe5dcPA/viewfo
 rm?pli=1" title="https://docs.google.com/forms/d/e/1FAIpQLSe
 Xu43jwZWmPLt8BTglYwuKdnP2nAQ_hOPSBNH5DwZJe5dcPA/viewform?pli
 =1">If you are 18 or older and interested\, click here to re
 gister and plan to attend with a friend.</a></p>
LOCATION:Bly Hall
DTSTART:20260324T180000
DTEND:20260324T190000
SUMMARY:Psychology Research Study
END:VEVENT
END:VCALENDAR
