BEGIN:VCALENDAR
PRODID:-//Solspace/Calendar 2.x//EN
VERSION:2.0
CALSCALE:GREGORIAN
BEGIN:VEVENT
UID:3ff1e75516f93103342826ca8a0561f4@solspace.com
DTSTAMP:20260419T115127
DESCRIPTION:<p>US Army Recruiters table for anyone interested in learnin
 g more about military service.</p>
LOCATION:HMSC - Bistro
DTSTART:20260319T110000
DTEND:20260319T130000
SUMMARY:Army Recruitment Table
END:VEVENT
END:VCALENDAR
