BEGIN:VCALENDAR
PRODID:-//Solspace/Calendar 2.x//EN
VERSION:2.0
CALSCALE:GREGORIAN
BEGIN:VEVENT
UID:efb5e0debe0d4530b8a68962ced13b3d@solspace.com
DTSTAMP:20260424T190208
DESCRIPTION:<p>The Grove City Wolverines take a short trip down 58 to ch
 allenge the Tomcats on the hard court.</p>
LOCATION:Thiel Tennis Courts
DTSTART:20260327T160000
DTEND:20260327T180000
SUMMARY:MTEN vs. Grove City College
END:VEVENT
END:VCALENDAR
