BEGIN:VCALENDAR
PRODID:-//Solspace/Calendar 2.x//EN
VERSION:2.0
CALSCALE:GREGORIAN
BEGIN:VEVENT
UID:a5e87cbb703df89acb818f223509cb1c@solspace.com
DTSTAMP:20260422T084319
DESCRIPTION:<p>Thiel welcomes the men and women of Mount Aloysius.</p>
LOCATION:Thiel Tennis Courts
DTSTART:20260414T150000
DTEND:20260414T173000
SUMMARY:MTEN vs. Mount Aloysius
END:VEVENT
END:VCALENDAR
