BEGIN:VCALENDAR
PRODID:-//Solspace/Calendar 2.x//EN
VERSION:2.0
CALSCALE:GREGORIAN
BEGIN:VEVENT
UID:2d274616ffdacd90cb6b31a6e6fae727@solspace.com
DTSTAMP:20260422T090545
DESCRIPTION:<p>Give if you are able!&nbsp\; American Red Cross blood dri
 ve.</p>
LOCATION:HMSC - Lutheran Heritage Room
DTSTART:20260416T090000
DTEND:20260416T180000
SUMMARY:PA Program Blood Drive
END:VEVENT
END:VCALENDAR
