BEGIN:VCALENDAR
PRODID:-//Solspace/Calendar 2.x//EN
VERSION:2.0
CALSCALE:GREGORIAN
BEGIN:VEVENT
UID:6529c069bf685693e30482bcb4c5bf25@solspace.com
DTSTAMP:20260419T115128
DESCRIPTION:<p><strong><em>Congratulations to the Mercer County Career C
 enter Graduates of 2026!&nbsp\;&nbsp\;</em></strong></p> <ul
 ><li><a href="https://www.mercerccc.org/" target="_blank">Me
 rcer County Career Center Website</a></li></ul>
LOCATION:Passavant Center
DTSTART:20260602T180000
DTEND:20260602T200000
SUMMARY:Mercer County Career Center Graduation
END:VEVENT
END:VCALENDAR
