BEGIN:VCALENDAR
PRODID:-//Solspace/Calendar 2.x//EN
VERSION:2.0
CALSCALE:GREGORIAN
BEGIN:VEVENT
UID:032469cf90c9b0cd0a735a7fb762a209@solspace.com
DTSTAMP:20260419T220408
DESCRIPTION:<p>Pick from a wide selection of plush critters to stuff and
  bring home for the summer.&nbsp\;<em> * Historically\, this
  is a very popular event - come early! *</em></p>
LOCATION:HMSC - Bistro
DTSTART:20260430T113000
DTEND:20260430T123000
SUMMARY:Stuff-A-Plush
END:VEVENT
END:VCALENDAR
