BEGIN:VCALENDAR
PRODID:-//Solspace/Calendar 2.x//EN
VERSION:2.0
CALSCALE:GREGORIAN
BEGIN:VEVENT
UID:8755ca81aad776277500427f1358c01f@solspace.com
DTSTAMP:20260420T114733
DESCRIPTION:<p>Thiel College Alumnus and University Professor Emeritus D
 r. Robert Crutchfield ’71 brings renowned scholars to pres
 ent their research.</p>
LOCATION:Stamm Hall
DTSTART:20260416T113000
DTEND:20260416T123000
SUMMARY:Dr. Crutchfield Lecture
END:VEVENT
END:VCALENDAR
