BEGIN:VCALENDAR
PRODID:-//Solspace/Calendar 2.x//EN
VERSION:2.0
CALSCALE:GREGORIAN
BEGIN:VEVENT
UID:73ddbc575dba9dfdebff02985243c580@solspace.com
DTSTAMP:20260419T150220
DESCRIPTION:<p>Common hour.&nbsp\; Thiel college Alumna Ally Russell ’
 09 will speak on campus about her journey as an accomplished
  Young Adult novel author.</p>
LOCATION:Stamm Hall
DTSTART:20260409T113000
DTEND:20260409T123000
SUMMARY:Author Ally Russell Lecture
END:VEVENT
END:VCALENDAR
