BEGIN:VCALENDAR
PRODID:-//Solspace/Calendar 2.x//EN
VERSION:2.0
CALSCALE:GREGORIAN
BEGIN:VEVENT
UID:084e3d41e0af5720f45321bdcfb43849@solspace.com
DTSTAMP:20260420T114758
DESCRIPTION:<p>Common hour.&nbsp\;&nbsp\;Gather and play fun games with 
 friends to win prize for your holiday basket.</p>
LOCATION:HMSC - Lutheran Heritage Room
DTSTART:20260326T113000
DTEND:20260326T123000
SUMMARY:Easter Bingo
END:VEVENT
END:VCALENDAR
