BEGIN:VCALENDAR
PRODID:-//Solspace/Calendar 2.x//EN
VERSION:2.0
CALSCALE:GREGORIAN
BEGIN:VEVENT
UID:e31a97917044f1e099787d6f50c2d53d@solspace.com
DTSTAMP:20260420T114712
DESCRIPTION:<p>Thiel News Time hosted by President Traverso.</p>
LOCATION:HMSC - Sawhill Georgian Room
DTSTART:20260407T113000
DTEND:20260407T123000
SUMMARY:TNT (Thiel News Time)
END:VEVENT
END:VCALENDAR
