BEGIN:VCALENDAR
PRODID:-//Solspace/Calendar 2.x//EN
VERSION:2.0
CALSCALE:GREGORIAN
BEGIN:VEVENT
UID:763ca0d7622aa91d728926a4ff34345c@solspace.com
DTSTAMP:20260419T154223
DESCRIPTION:<p>DHI's end of the semester event to celebrate the end of t
 he semester. DHI students are welcome to come enjoy food and
  also see wins the DHI Professor of the Year!</p>
LOCATION:Johnson Community Center
DTSTART:20260425T110000
DTEND:20260425T160000
SUMMARY:DHI End of Semester Event
END:VEVENT
END:VCALENDAR
