BEGIN:VCALENDAR
PRODID:-//Solspace/Calendar 2.x//EN
VERSION:2.0
CALSCALE:GREGORIAN
BEGIN:VEVENT
UID:589432d84f69c369bd36ca2649c877e2@solspace.com
DTSTAMP:20260424T190209
DESCRIPTION:<p>Join the Thiel College Master of Business Administration 
 Admissions Team to learn about the MBA Program! During this 
 information session you will hear from faculty and staff abo
 ut course work\, the admissions process\, financial aid and 
 more! Click <a href="https://connect.thiel.edu/register/?id=
 61e9a731-061e-4d03-adde-c72af5c92fbc" target="_blank">here <
 /a> to register for the event.</p>
LOCATION:Zoom
DTSTART:20260330T120000
DTEND:20260330T130000
SUMMARY:MBA Information Session
END:VEVENT
END:VCALENDAR
