BEGIN:VCALENDAR
PRODID:-//Solspace/Calendar 2.x//EN
VERSION:2.0
CALSCALE:GREGORIAN
BEGIN:VEVENT
UID:f5106f68c5e5068527094ec70428d172@solspace.com
DTSTAMP:20260419T132153
DESCRIPTION:<p>Last day of classes.&nbsp\; Finals begin on Monday.</p>
LOCATION:Thiel College
DTSTART;VALUE=DATE:20260501
DTEND;VALUE=DATE:20260502
SUMMARY:Final Day of Classes
END:VEVENT
END:VCALENDAR
