BEGIN:VCALENDAR
PRODID:-//Solspace/Calendar 2.x//EN
VERSION:2.0
CALSCALE:GREGORIAN
BEGIN:VEVENT
UID:4645278260b433faa5e68d4fd788e1d3@solspace.com
DTSTAMP:20260421T084256
DESCRIPTION:<p><strong><em>* MONDAY *</em></strong> classes will meet on
  this Wednesday.</p>
LOCATION:Thiel College
DTSTART;VALUE=DATE:20260422
DTEND;VALUE=DATE:20260423
SUMMARY:MONDAY Classes
END:VEVENT
END:VCALENDAR
