BEGIN:VCALENDAR
PRODID:-//Solspace/Calendar 2.x//EN
VERSION:2.0
CALSCALE:GREGORIAN
BEGIN:VEVENT
UID:759776613bdfce4ed4bcdff5e91fc2b7@solspace.com
DTSTAMP:20260420T175014
DESCRIPTION:<p>Classes resume on Tuesday\, April 7 at 8:00am.</p>
LOCATION:Thiel College
DTSTART:20260407T080000
DTEND:20260407T210000
SUMMARY:Classes Resume
END:VEVENT
END:VCALENDAR
