BEGIN:VCALENDAR
PRODID:-//Solspace/Calendar 2.x//EN
VERSION:2.0
CALSCALE:GREGORIAN
BEGIN:VEVENT
UID:10eb70475664f366c1d6da32457eec07@solspace.com
DTSTAMP:20260420T175142
LOCATION:Thiel College
DTSTART;VALUE=DATE:20260403
DTEND;VALUE=DATE:20260407
SUMMARY:Easter Recess
END:VEVENT
END:VCALENDAR
