BEGIN:VCALENDAR
PRODID:-//Solspace/Calendar 2.x//EN
VERSION:2.0
CALSCALE:GREGORIAN
BEGIN:VEVENT
UID:c6792785ef7d4179a3401f699a53c3ab@solspace.com
DTSTAMP:20260420T174912
DESCRIPTION:<p>Pre-Registration for Fall 2026 opens for First Year stude
 nts and all others.</p>
LOCATION:Registrar
DTSTART:20260401T080000
DTEND:20260401T170000
SUMMARY:All Students - Pre-Registration for Fall
END:VEVENT
END:VCALENDAR
