BEGIN:VCALENDAR
PRODID:-//Solspace/Calendar 2.x//EN
VERSION:2.0
CALSCALE:GREGORIAN
BEGIN:VEVENT
UID:a843d323d8803cda9822fe06872e628e@solspace.com
DTSTAMP:20260424T191054
DESCRIPTION:<p>Pre-Registration for Fall 2026 opens for all SOPHOMORES.<
 /p>
LOCATION:Registrar
DTSTART:20260330T080000
DTEND:20260330T170000
SUMMARY:Sophomores - Pre-Registration for Fall
END:VEVENT
END:VCALENDAR
