BEGIN:VCALENDAR
PRODID:-//Solspace/Calendar 2.x//EN
VERSION:2.0
CALSCALE:GREGORIAN
BEGIN:VEVENT
UID:00fc539bd38b1158dd2ebeabfd13deff@solspace.com
DTSTAMP:20260421T055011
DESCRIPTION:<p>State Senator&nbsp\;Michelle Brooks joins the Thiel Colle
 ge community on campus to walk through the State Senate&nbsp
 \;General Session rules for order and two current pieces of 
 legislation on the table.</p> <p>More information is availab
 le on Senator Brooks website here -&gt\;&nbsp\;<a href="http
 s://www.senatorbrooks.com/senator-for-a-day/legislation/">Le
 gislation for Senator for a Day Seminar - Senator Brooks</a>
 </p>
LOCATION:Thiel College
DTSTART:20260414T083000
DTEND:20260414T140000
SUMMARY:Senator Brooks Government Day
END:VEVENT
END:VCALENDAR
